BEGIN:VCALENDAR
VERSION:2.0
PRODID:-//The Creative Academy Inc. - ECPv6.15.20//NONSGML v1.0//EN
CALSCALE:GREGORIAN
METHOD:PUBLISH
X-WR-CALNAME:The Creative Academy Inc.
X-ORIGINAL-URL:https://thecreativeacademyatl.org
X-WR-CALDESC:Events for The Creative Academy Inc.
REFRESH-INTERVAL;VALUE=DURATION:PT1H
X-Robots-Tag:noindex
X-PUBLISHED-TTL:PT1H
BEGIN:VTIMEZONE
TZID:America/New_York
BEGIN:DAYLIGHT
TZOFFSETFROM:-0500
TZOFFSETTO:-0400
TZNAME:EDT
DTSTART:20240310T070000
END:DAYLIGHT
BEGIN:STANDARD
TZOFFSETFROM:-0400
TZOFFSETTO:-0500
TZNAME:EST
DTSTART:20241103T060000
END:STANDARD
BEGIN:DAYLIGHT
TZOFFSETFROM:-0500
TZOFFSETTO:-0400
TZNAME:EDT
DTSTART:20250309T070000
END:DAYLIGHT
BEGIN:STANDARD
TZOFFSETFROM:-0400
TZOFFSETTO:-0500
TZNAME:EST
DTSTART:20251102T060000
END:STANDARD
BEGIN:DAYLIGHT
TZOFFSETFROM:-0500
TZOFFSETTO:-0400
TZNAME:EDT
DTSTART:20260308T070000
END:DAYLIGHT
BEGIN:STANDARD
TZOFFSETFROM:-0400
TZOFFSETTO:-0500
TZNAME:EST
DTSTART:20261101T060000
END:STANDARD
END:VTIMEZONE
BEGIN:VTIMEZONE
TZID:UTC
BEGIN:STANDARD
TZOFFSETFROM:+0000
TZOFFSETTO:+0000
TZNAME:UTC
DTSTART:20210101T000000
END:STANDARD
END:VTIMEZONE
BEGIN:VTIMEZONE
TZID:America/New_York
BEGIN:DAYLIGHT
TZOFFSETFROM:-0500
TZOFFSETTO:-0400
TZNAME:EDT
DTSTART:20210314T070000
END:DAYLIGHT
BEGIN:STANDARD
TZOFFSETFROM:-0400
TZOFFSETTO:-0500
TZNAME:EST
DTSTART:20211107T060000
END:STANDARD
BEGIN:DAYLIGHT
TZOFFSETFROM:-0500
TZOFFSETTO:-0400
TZNAME:EDT
DTSTART:20220313T070000
END:DAYLIGHT
BEGIN:STANDARD
TZOFFSETFROM:-0400
TZOFFSETTO:-0500
TZNAME:EST
DTSTART:20221106T060000
END:STANDARD
BEGIN:DAYLIGHT
TZOFFSETFROM:-0500
TZOFFSETTO:-0400
TZNAME:EDT
DTSTART:20230312T070000
END:DAYLIGHT
BEGIN:STANDARD
TZOFFSETFROM:-0400
TZOFFSETTO:-0500
TZNAME:EST
DTSTART:20231105T060000
END:STANDARD
END:VTIMEZONE
BEGIN:VEVENT
DTSTART;TZID=America/New_York:20250621T103000
DTEND;TZID=America/New_York:20250621T130000
DTSTAMP:20260421T232340
CREATED:20250524T121744Z
LAST-MODIFIED:20250524T121744Z
UID:1149-1750501800-1750510800@thecreativeacademyatl.org
SUMMARY:Music Production Workshop  | 06/21/25
DESCRIPTION:Summer Music Production Workshop \nAges: 13-19 years old \n 
URL:https://thecreativeacademyatl.org/event/music-production-workshop-06-21-25/
LOCATION:RAYDAR Studios\, 800 Miami Circle\, Atlanta\, GA
END:VEVENT
BEGIN:VEVENT
DTSTART;VALUE=DATE:20250524
DTEND;VALUE=DATE:20250525
DTSTAMP:20260421T232340
CREATED:20250524T232946Z
LAST-MODIFIED:20250524T232946Z
UID:1159-1748044800-1748131199@thecreativeacademyatl.org
SUMMARY:SUMMER 2025 WORKSHOP DATES ARE HERE!
DESCRIPTION:Get Ready!!\nThis summer we’re taking it up a notch! Our summer workshops are gonna be 🔥🔥 !! \nCheck out the dates and Sign up Today!!
URL:https://thecreativeacademyatl.org/event/summer-2025-workshop-dates-are-here/
ATTACH;FMTTYPE=image/png:https://thecreativeacademyatl.org/wp-content/uploads/2025/05/SUMMER-2025.png
END:VEVENT
BEGIN:VEVENT
DTSTART;VALUE=DATE:20220824
DTEND;VALUE=DATE:20220825
DTSTAMP:20260421T232340
CREATED:20220617T225113Z
LAST-MODIFIED:20220617T225113Z
UID:776-1661299200-1661385599@thecreativeacademyatl.org
SUMMARY:TCA Fundraiser Gala
DESCRIPTION:Details Coming Soon!
URL:https://thecreativeacademyatl.org/event/tca-fundraiser-gala/
CATEGORIES:Events
END:VEVENT
BEGIN:VEVENT
DTSTART;TZID=America/New_York:20220716T100000
DTEND;TZID=America/New_York:20220716T113000
DTSTAMP:20260421T232340
CREATED:20220617T224830Z
LAST-MODIFIED:20220617T224830Z
UID:774-1657965600-1657971000@thecreativeacademyatl.org
SUMMARY:Classes In Session
DESCRIPTION:
URL:https://thecreativeacademyatl.org/event/classes-in-session-4/
LOCATION:Genesis Atlanta Studio and Creative Loft\, 691 John Wesley Dobbs Ave\, Atlanta\, GA\, 30312\, United States
CATEGORIES:Class Schedule
END:VEVENT
BEGIN:VEVENT
DTSTART;TZID=America/New_York:20220709T100000
DTEND;TZID=America/New_York:20220709T113000
DTSTAMP:20260421T232340
CREATED:20220617T223320Z
LAST-MODIFIED:20220617T223439Z
UID:771-1657360800-1657366200@thecreativeacademyatl.org
SUMMARY:Classes in Session
DESCRIPTION:
URL:https://thecreativeacademyatl.org/event/classes-in-session-3/
LOCATION:Genesis Atlanta Studio and Creative Loft\, 691 John Wesley Dobbs Ave\, Atlanta\, GA\, 30312\, United States
CATEGORIES:Class Schedule
END:VEVENT
BEGIN:VEVENT
DTSTART;TZID=UTC:20220625T100000
DTEND;TZID=UTC:20220625T113000
DTSTAMP:20260421T232340
CREATED:20220617T223146Z
LAST-MODIFIED:20220617T223146Z
UID:769-1656151200-1656156600@thecreativeacademyatl.org
SUMMARY:Classes in Session
DESCRIPTION:
URL:https://thecreativeacademyatl.org/event/classes-in-session-2/
LOCATION:Genesis Atlanta Studio and Creative Loft\, 691 John Wesley Dobbs Ave\, Atlanta\, GA\, 30312\, United States
CATEGORIES:Class Schedule
END:VEVENT
BEGIN:VEVENT
DTSTART;TZID=America/New_York:20220618T100000
DTEND;TZID=America/New_York:20220618T113000
DTSTAMP:20260421T232340
CREATED:20220617T221953Z
LAST-MODIFIED:20220617T223903Z
UID:766-1655546400-1655551800@thecreativeacademyatl.org
SUMMARY:Classes in Session
DESCRIPTION:
URL:https://thecreativeacademyatl.org/event/classes-in-session/
LOCATION:Genesis Atlanta Studio and Creative Loft\, 691 John Wesley Dobbs Ave\, Atlanta\, GA\, 30312\, United States
CATEGORIES:Class Schedule
END:VEVENT
BEGIN:VEVENT
DTSTART;VALUE=DATE:20220617
DTEND;VALUE=DATE:20220618
DTSTAMP:20260421T232340
CREATED:20220617T221616Z
LAST-MODIFIED:20220617T224714Z
UID:764-1655424000-1655510399@thecreativeacademyatl.org
SUMMARY:Atlanta Hawks x Papa Johns's Leadership Panel
DESCRIPTION:
URL:https://thecreativeacademyatl.org/event/atlanta-hawks-x-papa-johnss-leadership-panel/
LOCATION:Morehouse College\, 830 Westview Dr\, Atlanta\, Ga\, 30314
CATEGORIES:Events
END:VEVENT
BEGIN:VEVENT
DTSTART;TZID=America/New_York:20220611T100000
DTEND;TZID=America/New_York:20220611T113000
DTSTAMP:20260421T232340
CREATED:20220617T221434Z
LAST-MODIFIED:20220617T223515Z
UID:761-1654941600-1654947000@thecreativeacademyatl.org
SUMMARY:Classes in Session
DESCRIPTION:
URL:https://thecreativeacademyatl.org/event/classees-in-session/
LOCATION:Genesis Atlanta Studio and Creative Loft\, 691 John Wesley Dobbs Ave\, Atlanta\, GA\, 30312\, United States
CATEGORIES:Class Schedule
END:VEVENT
END:VCALENDAR