BEGIN:VCALENDAR
VERSION:2.0
PRODID:-//The Creative Academy Inc. - ECPv6.15.20//NONSGML v1.0//EN
CALSCALE:GREGORIAN
METHOD:PUBLISH
X-WR-CALNAME:The Creative Academy Inc.
X-ORIGINAL-URL:https://thecreativeacademyatl.org
X-WR-CALDESC:Events for The Creative Academy Inc.
REFRESH-INTERVAL;VALUE=DURATION:PT1H
X-Robots-Tag:noindex
X-PUBLISHED-TTL:PT1H
BEGIN:VTIMEZONE
TZID:UTC
BEGIN:STANDARD
TZOFFSETFROM:+0000
TZOFFSETTO:+0000
TZNAME:UTC
DTSTART:20240101T000000
END:STANDARD
END:VTIMEZONE
BEGIN:VTIMEZONE
TZID:America/New_York
BEGIN:DAYLIGHT
TZOFFSETFROM:-0500
TZOFFSETTO:-0400
TZNAME:EDT
DTSTART:20240310T070000
END:DAYLIGHT
BEGIN:STANDARD
TZOFFSETFROM:-0400
TZOFFSETTO:-0500
TZNAME:EST
DTSTART:20241103T060000
END:STANDARD
BEGIN:DAYLIGHT
TZOFFSETFROM:-0500
TZOFFSETTO:-0400
TZNAME:EDT
DTSTART:20250309T070000
END:DAYLIGHT
BEGIN:STANDARD
TZOFFSETFROM:-0400
TZOFFSETTO:-0500
TZNAME:EST
DTSTART:20251102T060000
END:STANDARD
BEGIN:DAYLIGHT
TZOFFSETFROM:-0500
TZOFFSETTO:-0400
TZNAME:EDT
DTSTART:20260308T070000
END:DAYLIGHT
BEGIN:STANDARD
TZOFFSETFROM:-0400
TZOFFSETTO:-0500
TZNAME:EST
DTSTART:20261101T060000
END:STANDARD
END:VTIMEZONE
BEGIN:VEVENT
DTSTART;VALUE=DATE:20250524
DTEND;VALUE=DATE:20250525
DTSTAMP:20260422T015255
CREATED:20250524T232946Z
LAST-MODIFIED:20250524T232946Z
UID:1159-1748044800-1748131199@thecreativeacademyatl.org
SUMMARY:SUMMER 2025 WORKSHOP DATES ARE HERE!
DESCRIPTION:Get Ready!!\nThis summer we’re taking it up a notch! Our summer workshops are gonna be 🔥🔥 !! \nCheck out the dates and Sign up Today!!
URL:https://thecreativeacademyatl.org/event/summer-2025-workshop-dates-are-here/
ATTACH;FMTTYPE=image/png:https://thecreativeacademyatl.org/wp-content/uploads/2025/05/SUMMER-2025.png
END:VEVENT
BEGIN:VEVENT
DTSTART;TZID=America/New_York:20250621T103000
DTEND;TZID=America/New_York:20250621T130000
DTSTAMP:20260422T015255
CREATED:20250524T121744Z
LAST-MODIFIED:20250524T121744Z
UID:1149-1750501800-1750510800@thecreativeacademyatl.org
SUMMARY:Music Production Workshop  | 06/21/25
DESCRIPTION:Summer Music Production Workshop \nAges: 13-19 years old \n 
URL:https://thecreativeacademyatl.org/event/music-production-workshop-06-21-25/
LOCATION:RAYDAR Studios\, 800 Miami Circle\, Atlanta\, GA
END:VEVENT
BEGIN:VEVENT
DTSTART;TZID=UTC:20250628T110000
DTEND;TZID=UTC:20250628T140000
DTSTAMP:20260422T015255
CREATED:20250524T122207Z
LAST-MODIFIED:20250524T122207Z
UID:1152-1751108400-1751119200@thecreativeacademyatl.org
SUMMARY:Music/Film/Photography Workshop | 6/28/25
DESCRIPTION:Summer Music\, Film\, and Photography Workshop \nAges: 13-19 years old
URL:https://thecreativeacademyatl.org/event/music-film-photography-workshop-6-28-25/
LOCATION:Bravo Ocean Studio\, 1040 Boulevard SE\, Atlanta\, GA\, 30312
END:VEVENT
BEGIN:VEVENT
DTSTART;TZID=UTC:20250712T080000
DTEND;TZID=UTC:20250712T170000
DTSTAMP:20260422T015255
CREATED:20250524T122426Z
LAST-MODIFIED:20250524T123323Z
UID:1155-1752307200-1752339600@thecreativeacademyatl.org
SUMMARY:Music/Film/Photography Workshop | 07/12/25
DESCRIPTION:Summer Music\, Film\, and Photography Workshop  \nAges: 13-19 years old
URL:https://thecreativeacademyatl.org/event/music-film-photography-workshop-07-12-25/
END:VEVENT
BEGIN:VEVENT
DTSTART;TZID=UTC:20250719T103000
DTEND;TZID=UTC:20250719T130000
DTSTAMP:20260422T015255
CREATED:20250524T123139Z
LAST-MODIFIED:20250524T123139Z
UID:1157-1752921000-1752930000@thecreativeacademyatl.org
SUMMARY:Music Production Workshop | 07/19/25
DESCRIPTION:Summer Music Production Workshop \nAges: 13-19 years old
URL:https://thecreativeacademyatl.org/event/music-production-workshop-07-19-25/
LOCATION:RAYDAR Studios\, 800 Miami Circle\, Atlanta\, GA
END:VEVENT
END:VCALENDAR